BEGIN:VCALENDAR
PRODID:-//zoom.us//iCalendar Event//EN
VERSION:2.0
CALSCALE:GREGORIAN
METHOD:PUBLISH
CLASS:PUBLIC
BEGIN:VTIMEZONE
TZID:America/New_York
LAST-MODIFIED:20201011T015911Z
TZURL:http://tzurl.org/zoneinfo-outlook/America/New_York
X-LIC-LOCATION:America/New_York
BEGIN:DAYLIGHT
TZNAME:EDT
TZOFFSETFROM:-0500
TZOFFSETTO:-0400
DTSTART:19700308T020000
RRULE:FREQ=YEARLY;BYMONTH=3;BYDAY=2SU
END:DAYLIGHT
BEGIN:STANDARD
TZNAME:EST
TZOFFSETFROM:-0400
TZOFFSETTO:-0500
DTSTART:19701101T020000
RRULE:FREQ=YEARLY;BYMONTH=11;BYDAY=1SU
END:STANDARD
END:VTIMEZONE
BEGIN:VEVENT
DTSTAMP:20210729T204242Z
DTSTART;TZID=America/New_York:20210802T094500
DTEND;TZID=America/New_York:20210802T104500
SUMMARY:Psalm Study w/ Rabbi Kleinbaum
RRULE:FREQ=WEEKLY;WKST=SU;UNTIL=20210930T144500;INTERVAL=1;BYDAY=MO,TU,WE
 ,TH
UID:ZOOM513468144
TZID:America/New_York
DESCRIPTION:CBST is inviting you to a scheduled Zoom meeting.\n\nJoin Zoo
 m Meeting\nhttps://us02web.zoom.us/j/513468144\n\nMeeting ID: 513 468 14
 4\nOne tap mobile\n+12532158782\,\,513468144# US (Tacoma)\n+13462487799\
 ,\,513468144# US (Houston)\n\nDial by your location\n        +1 253 215 
 8782 US (Tacoma)\n        +1 346 248 7799 US (Houston)\n        +1 669 9
 00 6833 US (San Jose)\n        +1 301 715 8592 US (Washington DC)\n     
    +1 312 626 6799 US (Chicago)\n        +1 646 876 9923 US (New York)\n
 Meeting ID: 513 468 144\n\n
LOCATION:https://us02web.zoom.us/j/513468144
BEGIN:VALARM
TRIGGER:-PT10M
ACTION:DISPLAY
DESCRIPTION:Reminder
END:VALARM
END:VEVENT
END:VCALENDAR
